BEGIN:VCALENDAR
VERSION:2.0
PRODID:-//Forsyth Mags - ECPv6.15.17.1//NONSGML v1.0//EN
CALSCALE:GREGORIAN
METHOD:PUBLISH
X-WR-CALNAME:Forsyth Mags
X-ORIGINAL-URL:https://forsythmags.com
X-WR-CALDESC:Events for Forsyth Mags
REFRESH-INTERVAL;VALUE=DURATION:PT1H
X-Robots-Tag:noindex
X-PUBLISHED-TTL:PT1H
BEGIN:VTIMEZONE
TZID:America/New_York
BEGIN:DAYLIGHT
TZOFFSETFROM:-0500
TZOFFSETTO:-0400
TZNAME:EDT
DTSTART:20250309T070000
END:DAYLIGHT
BEGIN:STANDARD
TZOFFSETFROM:-0400
TZOFFSETTO:-0500
TZNAME:EST
DTSTART:20251102T060000
END:STANDARD
BEGIN:DAYLIGHT
TZOFFSETFROM:-0500
TZOFFSETTO:-0400
TZNAME:EDT
DTSTART:20260308T070000
END:DAYLIGHT
BEGIN:STANDARD
TZOFFSETFROM:-0400
TZOFFSETTO:-0500
TZNAME:EST
DTSTART:20261101T060000
END:STANDARD
BEGIN:DAYLIGHT
TZOFFSETFROM:-0500
TZOFFSETTO:-0400
TZNAME:EDT
DTSTART:20270314T070000
END:DAYLIGHT
BEGIN:STANDARD
TZOFFSETFROM:-0400
TZOFFSETTO:-0500
TZNAME:EST
DTSTART:20271107T060000
END:STANDARD
END:VTIMEZONE
BEGIN:VEVENT
DTSTART;TZID=America/New_York:20260418T100000
DTEND;TZID=America/New_York:20260418T160000
DTSTAMP:20260421T042818
CREATED:20260129T183327Z
LAST-MODIFIED:20260129T183327Z
UID:10001532-1776506400-1776528000@forsythmags.com
SUMMARY:Piedmont Earth Day Fair
DESCRIPTION:The Piedmont Earth Day Fair\, hosted by Piedmont Environmental Alliance. Saturday\, April 18th from 10AM-4PM at the Winston-Salem Fairgrounds. Free! Rain or Shine! \nEnjoy great food and music\, activities for adults and kids\, and wonderful earth-friendly exhibitors…all while learning about how you can support a greener region. The Piedmont Earth Day Fair is a fun and free community event\, perfect for folks of all ages.
URL:https://forsythmags.com/event/piedmont-earth-day-fair/
LOCATION:winston salem fairgrounds\, 2532 Farmers Market Way\, Winston-Salem\, NC\, 27105\, United States
ATTACH;FMTTYPE=image/jpeg:https://forsythmags.com/wp-content/uploads/2026/01/Screenshot-2026-01-27-at-12.36.18-PM.jpg
ORGANIZER;CN="piedmont environmental alliance":MAILTO:stephanie@peanc.org
END:VEVENT
END:VCALENDAR